BEGIN:VCALENDAR
VERSION:2.0
PRODID:-//Red River Amateur Championship - Moorhead, MN - ECPv6.15.20//NONSGML v1.0//EN
CALSCALE:GREGORIAN
METHOD:PUBLISH
X-WR-CALNAME:Red River Amateur Championship - Moorhead, MN
X-ORIGINAL-URL:https://therrac.com
X-WR-CALDESC:Events for Red River Amateur Championship - Moorhead, MN
REFRESH-INTERVAL;VALUE=DURATION:PT1H
X-Robots-Tag:noindex
X-PUBLISHED-TTL:PT1H
BEGIN:VTIMEZONE
TZID:UTC
BEGIN:STANDARD
TZOFFSETFROM:+0000
TZOFFSETTO:+0000
TZNAME:UTC
DTSTART:20240101T000000
END:STANDARD
END:VTIMEZONE
BEGIN:VEVENT
DTSTART;TZID=UTC:20250619T000000
DTEND;TZID=UTC:20250619T235959
DTSTAMP:20260422T062610
CREATED:20231122T042203Z
LAST-MODIFIED:20250516T193310Z
UID:10000005-1750291200-1750377599@therrac.com
SUMMARY:Red River 2-Man Presented by Jersey Mike'
DESCRIPTION:
URL:https://therrac.com/event/redriver2-man/
CATEGORIES:Events
ATTACH;FMTTYPE=image/png:https://therrac.com/wp-content/uploads/2023/11/2-man-presented-by-jersey-mikes.png
END:VEVENT
BEGIN:VEVENT
DTSTART;TZID=UTC:20250317T000000
DTEND;TZID=UTC:20250317T235959
DTSTAMP:20260422T062610
CREATED:20231122T042235Z
LAST-MODIFIED:20240517T174501Z
UID:10000006-1742169600-1742255999@therrac.com
SUMMARY:Saint Patrick's Day
DESCRIPTION:
URL:https://therrac.com/event/saint-patricks-day/
CATEGORIES:Holidays
END:VEVENT
BEGIN:VEVENT
DTSTART;TZID=UTC:20250101T000000
DTEND;TZID=UTC:20250101T235959
DTSTAMP:20260422T062610
CREATED:20231005T225327Z
LAST-MODIFIED:20240517T174523Z
UID:10000003-1735689600-1735775999@therrac.com
SUMMARY:New Year's Eve
DESCRIPTION:
URL:https://therrac.com/event/new-years-eve/
CATEGORIES:Holidays
END:VEVENT
END:VCALENDAR